BEGIN:VCALENDAR
VERSION:2.0
PRODID:-//Le Relais des trois écluses - ECPv6.9.0//NONSGML v1.0//EN
CALSCALE:GREGORIAN
METHOD:PUBLISH
X-WR-CALNAME:Le Relais des trois écluses
X-ORIGINAL-URL:https://www.lestroisecluses.com
X-WR-CALDESC:Évènements pour Le Relais des trois écluses
REFRESH-INTERVAL;VALUE=DURATION:PT1H
X-Robots-Tag:noindex
X-PUBLISHED-TTL:PT1H
BEGIN:VTIMEZONE
TZID:Europe/Paris
BEGIN:DAYLIGHT
TZOFFSETFROM:+0100
TZOFFSETTO:+0200
TZNAME:CEST
DTSTART:20230326T010000
END:DAYLIGHT
BEGIN:STANDARD
TZOFFSETFROM:+0200
TZOFFSETTO:+0100
TZNAME:CET
DTSTART:20231029T010000
END:STANDARD
END:VTIMEZONE
BEGIN:VEVENT
DTSTART;TZID=Europe/Paris:20230223T150000
DTEND;TZID=Europe/Paris:20230223T160000
DTSTAMP:20260422T090645
CREATED:20230207T212145Z
LAST-MODIFIED:20230207T213201Z
UID:5675-1677164400-1677168000@www.lestroisecluses.com
SUMMARY:BOTANIK'HOM de et par Mathilde Van Den Boom
DESCRIPTION:Elles sont deux en une : Mathilde « de l’Arbre » raconte et « Olga Radicelle » débusque les voix de la « Nature » grâce à ses stéthoscopes végétaux\, traducteurs d’écorces\, et autres instruments d’écoute étonnants.\nEnsemble\, écouteuse et diseuse font entendre les histoires des plantes\, des insectes\, des pierres…\nLors de cette conférence contée incongrue\, nous découvrons comment les Premiers Hommes sont venus vivre sur Terre\, comment l’Alchimiste Scarabée transforme la bouse en or\, comment les Roses poussent dans le jardin du Roi...
URL:https://www.lestroisecluses.com/event/botanikhom/
LOCATION:Relais des trois écluses\, 3 rue du point de partage\, VIEILLES-MAISONS-SUR-JOUDRY\, 45260
ATTACH;FMTTYPE=image/jpeg:https://www.lestroisecluses.com/wp-content/uploads/2023/02/Affiche-conte-Mathilde_page-0001.jpg
END:VEVENT
END:VCALENDAR