BEGIN:VCALENDAR
VERSION:2.0
PRODID:-//Le Relais des trois écluses - ECPv6.9.0//NONSGML v1.0//EN
CALSCALE:GREGORIAN
METHOD:PUBLISH
X-ORIGINAL-URL:https://www.lestroisecluses.com
X-WR-CALDESC:Évènements pour Le Relais des trois écluses
REFRESH-INTERVAL;VALUE=DURATION:PT1H
X-Robots-Tag:noindex
X-PUBLISHED-TTL:PT1H
BEGIN:VTIMEZONE
TZID:Europe/Paris
BEGIN:DAYLIGHT
TZOFFSETFROM:+0100
TZOFFSETTO:+0200
TZNAME:CEST
DTSTART:20220327T010000
END:DAYLIGHT
BEGIN:STANDARD
TZOFFSETFROM:+0200
TZOFFSETTO:+0100
TZNAME:CET
DTSTART:20221030T010000
END:STANDARD
END:VTIMEZONE
BEGIN:VEVENT
DTSTART;TZID=Europe/Paris:20220823T190000
DTEND;TZID=Europe/Paris:20220823T203000
DTSTAMP:20260424T192521
CREATED:20220606T203503Z
LAST-MODIFIED:20230207T213906Z
UID:5544-1661281200-1661286600@www.lestroisecluses.com
SUMMARY:Théâtre des Vallées - Impromptus de Molière
DESCRIPTION:La commune de Vieilles-Maisons-sur-Joudry a invité le théâtre itinérant des Vallées et leur roulotte à faire escale pour offrir aux habitants\, voisins et visiteurs un spectacle interactif intitulé « Impromptus de Molière ». C’est vous qui choisissez les scènes que les comédiens vous joueront pour faire revivre l’oeuvre de Molière à l’occasion de ses 400 ans. \n 
URL:https://www.lestroisecluses.com/event/theatre-des-vallees-impromptus-de-moliere/
LOCATION:Relais des trois écluses\, 3 rue du point de partage\, VIEILLES-MAISONS-SUR-JOUDRY\, 45260
ATTACH;FMTTYPE=image/jpeg:https://www.lestroisecluses.com/wp-content/uploads/2022/06/Impromptus-de-Moliere.jpg
END:VEVENT
END:VCALENDAR