BEGIN:VCALENDAR
VERSION:2.0
PRODID:-//Le Relais des trois écluses - ECPv6.9.0//NONSGML v1.0//EN
CALSCALE:GREGORIAN
METHOD:PUBLISH
X-ORIGINAL-URL:https://www.lestroisecluses.com
X-WR-CALDESC:Évènements pour Le Relais des trois écluses
REFRESH-INTERVAL;VALUE=DURATION:PT1H
X-Robots-Tag:noindex
X-PUBLISHED-TTL:PT1H
BEGIN:VTIMEZONE
TZID:Europe/Paris
BEGIN:DAYLIGHT
TZOFFSETFROM:+0100
TZOFFSETTO:+0200
TZNAME:CEST
DTSTART:20230326T010000
END:DAYLIGHT
BEGIN:STANDARD
TZOFFSETFROM:+0200
TZOFFSETTO:+0100
TZNAME:CET
DTSTART:20231029T010000
END:STANDARD
END:VTIMEZONE
BEGIN:VEVENT
DTSTART;TZID=Europe/Paris:20230826T103000
DTEND;TZID=Europe/Paris:20230826T183000
DTSTAMP:20260422T005054
CREATED:20230713T144834Z
LAST-MODIFIED:20230717T125001Z
UID:5751-1693045800-1693074600@www.lestroisecluses.com
SUMMARY:Armira et les arbres rêveurs
DESCRIPTION:Une histoire à la fois initiatique et poétique\, mettant en lumière l’importance de la nature et le pouvoir de l’écoute face au monde qui nous entoure.\n\n \nDans l’univers secret de la forêt des songes\, les arbres rêveurs protègent le sommeil des êtres qu’ils abritent\, en filtrant leurs rêves. C’est ainsi qu‘Amrita\, jeune adolescente\, vit paisiblement au creux des branches de son ami Alfal.\nDe l’autre côté de la lisière\, les humains de la ville obnubilés par une légende ancestrale\, se tiennent éloignés depuis des dizaines d’années. Mais un jour\, la forêt se met à trembler sous les tronçonneuses et les pelleteuses. Amrita se retrouve alors actrice de la sauvegarde de son monde…\n\n \n\nSéances : 1030 – 11h30 – 17h30 – 18h30\nDurée : environ 30 mn de spectacle suivi d’un échange de 20 mn\nTarifs :\n\n4€ par personne\nGratuit pour les adhérents et les moins de 12 ans\n\n\n\n 
URL:https://www.lestroisecluses.com/event/armira-et-les-arbres-reveurs/
LOCATION:Relais des trois écluses\, 3 rue du point de partage\, VIEILLES-MAISONS-SUR-JOUDRY\, 45260
ATTACH;FMTTYPE=image/jpeg:https://www.lestroisecluses.com/wp-content/uploads/2023/07/Amrita-WP-Event-1008x576-80.jpg
ORGANIZER;CN="Le relais des trois %C3%A9cluses":MAILTO:contact@lestroisecluses.com
END:VEVENT
END:VCALENDAR