BEGIN:VCALENDAR
VERSION:2.0
PRODID:-//Le Relais des trois écluses - ECPv6.9.0//NONSGML v1.0//EN
CALSCALE:GREGORIAN
METHOD:PUBLISH
X-ORIGINAL-URL:https://www.lestroisecluses.com
X-WR-CALDESC:Évènements pour Le Relais des trois écluses
REFRESH-INTERVAL;VALUE=DURATION:PT1H
X-Robots-Tag:noindex
X-PUBLISHED-TTL:PT1H
BEGIN:VTIMEZONE
TZID:Europe/Paris
BEGIN:DAYLIGHT
TZOFFSETFROM:+0100
TZOFFSETTO:+0200
TZNAME:CEST
DTSTART:20230326T010000
END:DAYLIGHT
BEGIN:STANDARD
TZOFFSETFROM:+0200
TZOFFSETTO:+0100
TZNAME:CET
DTSTART:20231029T010000
END:STANDARD
END:VTIMEZONE
BEGIN:VEVENT
DTSTART;TZID=Europe/Paris:20230424T183000
DTEND;TZID=Europe/Paris:20230424T203000
DTSTAMP:20260422T071726
CREATED:20230328T144117Z
LAST-MODIFIED:20230328T144335Z
UID:5695-1682361000-1682368200@www.lestroisecluses.com
SUMMARY:CONVERSATIONS CARBONE
DESCRIPTION:Nous connaissons tous des « écogestes »\, ces actions permettant de contribuer à un monde plus durable\, pourtant nous ressentons souvent un sentiment d’injustice et d’impuissance. Comment rester positifs\, ne pas renoncer à ce qu’on aime\, choisir des actions judicieuses\, efficaces et conformes à nos priorités ? \nAfin de répondre à ces questions et de permettre à chacun d’explorer les premiers passages à l’action vers un mode de vie plus sobre en carbone\, plusieurs structures du territoire du Gâtinais montargois\, engagées pour la transition écologique\, proposent 5 premiers groupes de Conversations Carbone qui se réuniront tout au long du printemps 2023. \nUn groupe se retrouvera au Relais des trois écluses les lundis 24 avril\, 15 mai\, 5 et 19 juin\, 3 juillet et 11 septembre 2023 de 18h30 à 20h30. \n \nSi le sujet et la démarche vous intéressent et si vous êtes prêts à vous engager sur les 6 dates retenues pour le Relais\, n’hésitez plus\, inscrivez-vous ! C’est ici : https://forms.office.com/r/24NwYFuACL
URL:https://www.lestroisecluses.com/event/conversation-carbone/
ATTACH;FMTTYPE=image/jpeg:https://www.lestroisecluses.com/wp-content/uploads/2023/03/cONVERSATION-CARBONES.jpg
END:VEVENT
END:VCALENDAR