BEGIN:VCALENDAR
VERSION:2.0
PRODID:-//Le Relais des trois écluses - ECPv6.9.0//NONSGML v1.0//EN
CALSCALE:GREGORIAN
METHOD:PUBLISH
X-WR-CALNAME:Le Relais des trois écluses
X-ORIGINAL-URL:https://www.lestroisecluses.com
X-WR-CALDESC:Évènements pour Le Relais des trois écluses
REFRESH-INTERVAL;VALUE=DURATION:PT1H
X-Robots-Tag:noindex
X-PUBLISHED-TTL:PT1H
BEGIN:VTIMEZONE
TZID:Europe/Paris
BEGIN:DAYLIGHT
TZOFFSETFROM:+0100
TZOFFSETTO:+0200
TZNAME:CEST
DTSTART:20220327T010000
END:DAYLIGHT
BEGIN:STANDARD
TZOFFSETFROM:+0200
TZOFFSETTO:+0100
TZNAME:CET
DTSTART:20221030T010000
END:STANDARD
END:VTIMEZONE
BEGIN:VEVENT
DTSTART;TZID=Europe/Paris:20220408T100000
DTEND;TZID=Europe/Paris:20220408T170000
DTSTAMP:20260425T041241
CREATED:20220408T081147Z
LAST-MODIFIED:20220408T081147Z
UID:5372-1649412000-1649437200@www.lestroisecluses.com
SUMMARY:Test
DESCRIPTION:test
URL:https://www.lestroisecluses.com/event/test/
END:VEVENT
END:VCALENDAR